BEGIN:VCALENDAR
VERSION:2.0
PRODID:-//Giacomo-Meyerbeer-Gesellschaft - ECPv6.6.1//NONSGML v1.0//EN
CALSCALE:GREGORIAN
METHOD:PUBLISH
X-WR-CALNAME:Giacomo-Meyerbeer-Gesellschaft
X-ORIGINAL-URL:https://meyerbeer-gesellschaft.de
X-WR-CALDESC:Veranstaltungen für Giacomo-Meyerbeer-Gesellschaft
REFRESH-INTERVAL;VALUE=DURATION:PT1H
X-Robots-Tag:noindex
X-PUBLISHED-TTL:PT1H
BEGIN:VTIMEZONE
TZID:Europe/Berlin
BEGIN:DAYLIGHT
TZOFFSETFROM:+0100
TZOFFSETTO:+0200
TZNAME:CEST
DTSTART:20250330T010000
END:DAYLIGHT
BEGIN:STANDARD
TZOFFSETFROM:+0200
TZOFFSETTO:+0100
TZNAME:CET
DTSTART:20251026T010000
END:STANDARD
END:VTIMEZONE
BEGIN:VEVENT
DTSTART;TZID=Europe/Berlin:20250728T180000
DTEND;TZID=Europe/Berlin:20250728T193000
DTSTAMP:20260419T173206
CREATED:20250708T201344Z
LAST-MODIFIED:20250708T201344Z
UID:6065-1753725600-1753731000@meyerbeer-gesellschaft.de
SUMMARY:Philipp Franz von Siebold und Giacomo Meyerbeer - eine Verbindung  durch die Musik
DESCRIPTION:Vortrag von Dr. Martina Friedrichs mit Musikbeispielen \nPhilipp Franz von Siebold (1796-1866) und Giacomo Meyerbeer (1791-1864) waren große Europäer\, Kosmopoliten und Brückenbauer\, zwei Persönlichkeiten zwischen den Kulturen. Jeder in seinem Wirkungsbereich repräsentierte einen europäischen und einen internationalen Kulturtransfer. \nSiebold war ein deutscher Arzt\, Naturforscher und Japanologe\, der durch riskante Reisen (1823-1829 und 1859-1862) in das damals verschlossene Japan zu bedeutenden Erkenntnissen über die japanische Kultur\, Natur und Medizin gelangt ist und heute als Wegbereiter der Japanforschung gilt. \nDer Komponist Giacomo Meyerbeer aus Berlin gehört zu den berühmtesten Opernkomponisten des 19. Jahrhunderts und kreierte mit seiner Grand opéra in Paris diese bedeutende Operngattung. In seinem musikalischen Kosmopolitismus vereinigte er deutsche\, italienische und französische Stilelemente in der Oper. \nDer „Weltbürger der Musik“ und der „Humboldt Japans“ kannten sich und hatten in Alexander von Humboldt einen wertvollen Freund und Förderer. \nSiebold brachte aus Japan selbst aufgezeichnete Musik nach Europa. Neben einer sehr interessanten Abhandlung über japanische Musik hatte Siebold außerdem den Opernstoff der japanischen Tragödie „Imoseyama“ im Gepäck – für Meyerbeer bestimmt? \nDr. Martina Friedrichs ist Musikwissenschaftlerin und Vorstandsmitglied der Giacomo-Meyerbeer-Gesellschaft e.V. Berlin. \nDer Veranstalter bittet um Anmeldung.
URL:https://meyerbeer-gesellschaft.de/event/philipp-franz-von-siebold-und-giacomo-meyerbeer-eine-verbindung-durch-die-musik/
LOCATION:Japanisch-Deutsches Zentrum\, Saargemünder Str. 2\, Berlin\, Berlin\, 14195\, Germany
END:VEVENT
END:VCALENDAR