BEGIN:VCALENDAR
VERSION:2.0
PRODID:-//Giacomo-Meyerbeer-Gesellschaft - ECPv6.6.1//NONSGML v1.0//EN
CALSCALE:GREGORIAN
METHOD:PUBLISH
X-ORIGINAL-URL:https://meyerbeer-gesellschaft.de
X-WR-CALDESC:Veranstaltungen für Giacomo-Meyerbeer-Gesellschaft
REFRESH-INTERVAL;VALUE=DURATION:PT1H
X-Robots-Tag:noindex
X-PUBLISHED-TTL:PT1H
BEGIN:VTIMEZONE
TZID:Europe/Berlin
BEGIN:DAYLIGHT
TZOFFSETFROM:+0100
TZOFFSETTO:+0200
TZNAME:CEST
DTSTART:20260329T010000
END:DAYLIGHT
BEGIN:STANDARD
TZOFFSETFROM:+0200
TZOFFSETTO:+0100
TZNAME:CET
DTSTART:20261025T010000
END:STANDARD
END:VTIMEZONE
BEGIN:VEVENT
DTSTART;TZID=Europe/Berlin:20260328T180000
DTEND;TZID=Europe/Berlin:20260328T220000
DTSTAMP:20260423T062644
CREATED:20251114T170500Z
LAST-MODIFIED:20251114T170500Z
UID:6177-1774720800-1774735200@meyerbeer-gesellschaft.de
SUMMARY:Le Prophète im Théâtre des Champs-Élysées
DESCRIPTION:Das Orchestre de Chambre de Genève bringt unter der Leitung von Marc Leroy-Catalyud Meyerbeers Grand Opéra „Le Prophète“ konzertant auf die Bühne des Pariser Théâtre des Champs-Élysées. Als Fidès steht Marina Viotti auf der Bühne\, und für die Rolle des Jean konnte John Osborn gewonnen werden\, einer der großen Tenöre unserer Tage im französischen Fach. \nDie Meyerbeer-Gesellschaft unternimmt aus diesem Anlass eine Reise nach Paris. Die gemeinsame Kartenbuchung ist bereits abgeschlossen\, aber wer Interesse am Rahmenprogramm hat\, meldet sich bei thomas.kliche@meyerbeer-gesellschaft.de. \n 
URL:https://meyerbeer-gesellschaft.de/event/le-prophete-im-theatre-des-champs-elysees/
LOCATION:Theatre des Champs-Elysees\, 15 avenue Montaigne\, Paris\, Paris\, 75008\, France
END:VEVENT
END:VCALENDAR